BEGIN:VCALENDAR
VERSION:2.0
PRODID:-//Sabre//Sabre VObject 4.5.8//EN
CALSCALE:GREGORIAN
BEGIN:VEVENT
UID:sabre-vobject-22100478-4e93-4a0a-a2be-042147860299
DTSTAMP:20260424T162819Z
SUMMARY:Pfarrgemeinderatssitzung Niederraunau im Sportheim
DESCRIPTION:https://www2.bistum-augsburg.de/gottesdienste/pfarrgemeinderats
 sitzung-niederraunau-im-sportheim_id1734274
DTSTART;TZID=Europe/Berlin:20260507T193000
DURATION:PT30M
LOCATION:Hlgst. Dreifaltigkeit
END:VEVENT
END:VCALENDAR
