BEGIN:VCALENDAR
VERSION:2.0
PRODID:-//Sabre//Sabre VObject 4.5.8//EN
CALSCALE:GREGORIAN
BEGIN:VEVENT
UID:sabre-vobject-ab9df88c-bd3f-425b-98ff-37f41315ded6
DTSTAMP:20260424T124530Z
SUMMARY:Bittgang nach Waltenberg - Treffpunkt: Waldhütte bei der Wasserres
 erve
DESCRIPTION:https://www2.bistum-augsburg.de/gottesdienste/bittgang-nach-wal
 tenberg-treffpunkt-waldhuette-bei-der-wasserreserve_id1734279
DTSTART;TZID=Europe/Berlin:20260511T183000
DURATION:PT30M
LOCATION:Hlgst. Dreifaltigkeit
END:VEVENT
END:VCALENDAR
