BEGIN:VCALENDAR
VERSION:2.0
PRODID:-//Sabre//Sabre VObject 4.5.8//EN
CALSCALE:GREGORIAN
BEGIN:VEVENT
UID:sabre-vobject-170d9f0e-e50c-428d-99a9-ddc4e7c96e56
DTSTAMP:20260425T172433Z
SUMMARY:Fahrzeugsegnung im Rahmen des Mofa-Treffens
DESCRIPTION:https://www2.bistum-augsburg.de/gottesdienste/fahrzeugsegnung-i
 m-rahmen-des-mofa-treffens_id1734296
DTSTART;TZID=Europe/Berlin:20260514T133000
DURATION:PT30M
LOCATION:Heilig Kreuz\, Haupeltshofer Straße 2\, 86480 Aletshausen
END:VEVENT
END:VCALENDAR
