BEGIN:VCALENDAR
VERSION:2.0
PRODID:-//Sabre//Sabre VObject 4.5.8//EN
CALSCALE:GREGORIAN
BEGIN:VEVENT
UID:sabre-vobject-29d21f02-537a-443a-984c-27f7368c907f
DTSTAMP:20260424T172329Z
SUMMARY:Dankandacht für alle Erstkommunionkinder der PG
DESCRIPTION:https://www2.bistum-augsburg.de/gottesdienste/dankandacht-fuer-
 alle-erstkommunionkinder-der-pg_id1734297
DTSTART;TZID=Europe/Berlin:20260510T180000
DURATION:PT30M
LOCATION:St. Michael
END:VEVENT
END:VCALENDAR
