BEGIN:VCALENDAR
VERSION:2.0
PRODID:-//Sabre//Sabre VObject 4.5.8//EN
CALSCALE:GREGORIAN
BEGIN:VEVENT
UID:sabre-vobject-44b18cd3-2113-49ab-8b3f-02f6486d9a76
DTSTAMP:20260424T155501Z
SUMMARY:Eucharistiefeier
DESCRIPTION:https://www2.bistum-augsburg.de/gottesdienste/eucharistiefeier_
 id1734311
DTSTART;TZID=Europe/Berlin:20260517T103000
DURATION:PT30M
LOCATION:St. Philippus und Jakobus\, Stiftsberg 15\, 87730 Bad Grönenbach
END:VEVENT
END:VCALENDAR
