BEGIN:VCALENDAR
VERSION:2.0
PRODID:-//Sabre//Sabre VObject 4.5.8//EN
CALSCALE:GREGORIAN
BEGIN:VEVENT
UID:sabre-vobject-97947c64-2ca9-4a93-8a5a-59decaa32b25
DTSTAMP:20260424T123415Z
SUMMARY:Krankenkommunion
DESCRIPTION:https://www2.bistum-augsburg.de/gottesdienste/krankenkommunion_
 id1734320
DTSTART;TZID=Europe/Berlin:20260508T140000
DURATION:PT30M
LOCATION:St. Martin
END:VEVENT
END:VCALENDAR
