BEGIN:VCALENDAR
VERSION:2.0
PRODID:-//Sabre//Sabre VObject 4.5.8//EN
CALSCALE:GREGORIAN
BEGIN:VEVENT
UID:sabre-vobject-b83f2aae-e3a5-4077-914c-a23e782ae7e7
DTSTAMP:20260424T220826Z
SUMMARY:Messfeier
DESCRIPTION:https://www2.bistum-augsburg.de/gottesdienste/messfeier_id17343
 29
DTSTART;TZID=Europe/Berlin:20260503T090000
DURATION:PT30M
LOCATION:St. Josef\, Mühlenweg 8\, 87616 Marktoberdorf
END:VEVENT
END:VCALENDAR
