BEGIN:VCALENDAR
VERSION:2.0
PRODID:-//Sabre//Sabre VObject 4.5.8//EN
CALSCALE:GREGORIAN
BEGIN:VEVENT
UID:sabre-vobject-0e6a8a7c-2902-4cf2-8d49-4114cdcdb4a0
DTSTAMP:20260424T194452Z
SUMMARY:Pilgersegen\, Abmarsch zur 334.  Fußwallfahrt der Pfarrei Ried nac
 h Andechs
DESCRIPTION:https://www2.bistum-augsburg.de/gottesdienste/pilgersegen-abmar
 sch-zur-334-fusswallfahrt-der-pfarrei-ried-nach-andechs_id1734333
DTSTART;TZID=Europe/Berlin:20260513T013000
DURATION:PT30M
LOCATION:St. Walburga
END:VEVENT
END:VCALENDAR
