BEGIN:VCALENDAR
VERSION:2.0
PRODID:-//Sabre//Sabre VObject 4.5.8//EN
CALSCALE:GREGORIAN
BEGIN:VEVENT
UID:sabre-vobject-6e3bc0ad-5dbb-409c-aa86-6c2f91a17bc1
DTSTAMP:20260424T221925Z
SUMMARY:Eucharistische Anbetung
DESCRIPTION:https://www2.bistum-augsburg.de/gottesdienste/eucharistische-an
 betung_id1734364
DTSTART;TZID=Europe/Berlin:20260505T090000
DURATION:PT30M
LOCATION:St. Magnus
END:VEVENT
END:VCALENDAR
