BEGIN:VCALENDAR
VERSION:2.0
PRODID:-//Sabre//Sabre VObject 4.5.8//EN
CALSCALE:GREGORIAN
BEGIN:VEVENT
UID:sabre-vobject-a66629b4-d532-42ae-9a8f-495751daad96
DTSTAMP:20260425T231613Z
SUMMARY:Barmherzigkeitsrosenkranz
DESCRIPTION:https://www2.bistum-augsburg.de/gottesdienste/barmherzigkeitsro
 senkranz_id1734367
DTSTART;TZID=Europe/Berlin:20260508T150000
DURATION:PT30M
LOCATION:St. Magnus
END:VEVENT
END:VCALENDAR
