BEGIN:VCALENDAR
VERSION:2.0
PRODID:-//Sabre//Sabre VObject 4.5.8//EN
CALSCALE:GREGORIAN
BEGIN:VEVENT
UID:sabre-vobject-6669735d-8266-41b7-9153-03f54686593e
DTSTAMP:20260425T040555Z
SUMMARY:Rosenkranz für Ordens- und Priesternachwuchs in der Welt
DESCRIPTION:https://www2.bistum-augsburg.de/gottesdienste/rosenkranz-fuer-o
 rdens-und-priesternachwuchs-in-der-welt_id1734370
DTSTART;TZID=Europe/Berlin:20260429T180000
DURATION:PT30M
LOCATION:St. Vitus\, Modestus u. Kreszentia
END:VEVENT
END:VCALENDAR
