BEGIN:VCALENDAR
VERSION:2.0
PRODID:-//Sabre//Sabre VObject 4.5.8//EN
CALSCALE:GREGORIAN
BEGIN:VEVENT
UID:sabre-vobject-b804da38-f13f-4a7a-b388-210a8d8b0f4c
DTSTAMP:20260425T035128Z
SUMMARY:Abmarsch bei Fam. Wörle\, Oberdorfer Str. 2
DESCRIPTION:https://www2.bistum-augsburg.de/gottesdienste/abmarsch-bei-fam-
 woerle-oberdorfer-str-2_id1734382
DTSTART;TZID=Europe/Berlin:20260513T030000
DURATION:PT30M
LOCATION:St. Johannes Baptist
END:VEVENT
END:VCALENDAR
