BEGIN:VCALENDAR
VERSION:2.0
PRODID:-//Sabre//Sabre VObject 4.5.8//EN
CALSCALE:GREGORIAN
BEGIN:VEVENT
UID:sabre-vobject-2fe1f922-2e04-4107-8ada-01d027379b05
DTSTAMP:20260425T035051Z
SUMMARY:Ökum. Gottesdienst am Kornhofer Bänkle\, bei schlechter Witterung
  in der Stiftskirche
DESCRIPTION:https://www2.bistum-augsburg.de/gottesdienste/oekum-gottesdiens
 t-am-kornhofer-baenkle-bei-schlechter-witterung-in-der-stiftskirche_id1734
 385
DTSTART;TZID=Europe/Berlin:20260525T100000
DURATION:PT30M
LOCATION:St. Philippus und Jakobus\, Stiftsberg 15\, 87730 Bad Grönenbach
END:VEVENT
END:VCALENDAR
