BEGIN:VCALENDAR
VERSION:2.0
PRODID:-//Sabre//Sabre VObject 4.5.8//EN
CALSCALE:GREGORIAN
BEGIN:VEVENT
UID:sabre-vobject-73b9c1e3-050f-4761-8f56-f951a2d83f33
DTSTAMP:20260424T144459Z
SUMMARY:Feierliche Maiandacht m. Auss.\, musik. mitg. von Petra Buchner u. 
 Michael Gabler
DESCRIPTION:https://www2.bistum-augsburg.de/gottesdienste/feierliche-maiand
 acht-m-auss-musik-mitg-von-petra-buchner-u-michael-gabler_id1734399
DTSTART;TZID=Europe/Berlin:20260517T190000
DURATION:PT30M
LOCATION:St. Cyriakus\, Largus und Smaragdus
END:VEVENT
END:VCALENDAR
