BEGIN:VCALENDAR
VERSION:2.0
PRODID:-//Sabre//Sabre VObject 4.5.8//EN
CALSCALE:GREGORIAN
BEGIN:VEVENT
UID:sabre-vobject-f4a75dff-3b50-44bc-baf9-da41f9412ea9
DTSTAMP:20260424T074845Z
SUMMARY:Eucharistiefeier
DESCRIPTION:https://www2.bistum-augsburg.de/gottesdienste/eucharistiefeier_
 id1734402
DTSTART;TZID=Europe/Berlin:20260522T090000
DURATION:PT30M
LOCATION:St. Cyriakus\, Largus und Smaragdus
END:VEVENT
END:VCALENDAR
