BEGIN:VCALENDAR
VERSION:2.0
PRODID:-//Sabre//Sabre VObject 4.5.8//EN
CALSCALE:GREGORIAN
BEGIN:VEVENT
UID:sabre-vobject-0ebf1f66-d717-4f9f-a53f-44c36320e0e2
DTSTAMP:20260424T151801Z
SUMMARY:Maiandacht\, gest. vom Büchereiteam
DESCRIPTION:https://www2.bistum-augsburg.de/gottesdienste/maiandacht-gest-v
 om-buechereiteam_id1734409
DTSTART;TZID=Europe/Berlin:20260520T190000
DURATION:PT30M
LOCATION:St. Vitus\, Modestus u. Kreszentia
END:VEVENT
END:VCALENDAR
