BEGIN:VCALENDAR
VERSION:2.0
PRODID:-//Sabre//Sabre VObject 4.5.8//EN
CALSCALE:GREGORIAN
BEGIN:VEVENT
UID:sabre-vobject-50ad4f44-3e88-470c-9e10-ff04250bb7e9
DTSTAMP:20260426T002302Z
SUMMARY:Maiandacht in der Kapelle Bossarts
DESCRIPTION:https://www2.bistum-augsburg.de/gottesdienste/maiandacht-in-der
 -kapelle-bossarts_id1734418
DTSTART;TZID=Europe/Berlin:20260522T193000
DURATION:PT30M
LOCATION:St. Cyriakus\, Largus und Smaragdus
END:VEVENT
END:VCALENDAR
