BEGIN:VCALENDAR
VERSION:2.0
PRODID:-//Sabre//Sabre VObject 4.5.8//EN
CALSCALE:GREGORIAN
BEGIN:VEVENT
UID:sabre-vobject-c3bffae8-9447-4edf-a401-bdd07823f03b
DTSTAMP:20260425T040518Z
SUMMARY:Festgottesdienst zu Pfingsten
DESCRIPTION:https://www2.bistum-augsburg.de/gottesdienste/festgottesdienst-
 zu-pfingsten_id1734419
DTSTART;TZID=Europe/Berlin:20260524T090000
DURATION:PT30M
LOCATION:St. Cyriakus\, Largus und Smaragdus
END:VEVENT
END:VCALENDAR
