BEGIN:VCALENDAR
VERSION:2.0
PRODID:-//Sabre//Sabre VObject 4.5.8//EN
CALSCALE:GREGORIAN
BEGIN:VEVENT
UID:sabre-vobject-57a2b4f9-2779-4c9e-b88a-7a66005fe1d7
DTSTAMP:20260425T021040Z
SUMMARY:Rosenkranz fällt aus
DESCRIPTION:https://www2.bistum-augsburg.de/gottesdienste/rosenkranz-faellt
 -aus_id1734420
DTSTART;TZID=Europe/Berlin:20260504T000000
DURATION:PT30M
LOCATION:St. Johannes Baptist
END:VEVENT
END:VCALENDAR
