BEGIN:VCALENDAR
VERSION:2.0
PRODID:-//Sabre//Sabre VObject 4.5.8//EN
CALSCALE:GREGORIAN
BEGIN:VEVENT
UID:sabre-vobject-0f94d99c-62ee-425d-90d2-bb5d781d5286
DTSTAMP:20260425T132446Z
SUMMARY:Messfeier
DESCRIPTION:https://www2.bistum-augsburg.de/gottesdienste/messfeier_id17344
 47
DTSTART;TZID=Europe/Berlin:20260505T163000
DURATION:PT30M
LOCATION:St. Martin
END:VEVENT
END:VCALENDAR
