BEGIN:VCALENDAR
VERSION:2.0
PRODID:-//Sabre//Sabre VObject 4.5.8//EN
CALSCALE:GREGORIAN
BEGIN:VEVENT
UID:sabre-vobject-d7dd3e26-91c4-471c-b1cf-d18526f12d4b
DTSTAMP:20260425T040345Z
SUMMARY:Rosenkranz
DESCRIPTION:https://www2.bistum-augsburg.de/gottesdienste/rosenkranz_id1734
 479
DTSTART;TZID=Europe/Berlin:20260523T180000
DURATION:PT30M
LOCATION:St. Peter und Paul\, Kirchenweg 5A\, 87730 Zell-Woringen
END:VEVENT
END:VCALENDAR
