BEGIN:VCALENDAR
VERSION:2.0
PRODID:-//Sabre//Sabre VObject 4.5.8//EN
CALSCALE:GREGORIAN
BEGIN:VEVENT
UID:sabre-vobject-075978a4-8a0c-47e7-b715-53a5d25aa602
DTSTAMP:20260424T110316Z
SUMMARY:Kinderkirche in der Pfarrkirche zum Thema: "Hl. Florian"
DESCRIPTION:https://www2.bistum-augsburg.de/gottesdienste/kinderkirche-in-d
 er-pfarrkirche-zum-thema-hl-florian_id1734488
DTSTART;TZID=Europe/Berlin:20260503T103000
DURATION:PT30M
LOCATION:St. Peter und Paul\, Kirchenweg 5A\, 87730 Zell-Woringen
END:VEVENT
END:VCALENDAR
