BEGIN:VCALENDAR
VERSION:2.0
PRODID:-//Sabre//Sabre VObject 4.5.8//EN
CALSCALE:GREGORIAN
BEGIN:VEVENT
UID:sabre-vobject-bbc0ab1c-6d4f-4764-81cf-11901a9cc028
DTSTAMP:20260424T123404Z
SUMMARY:Eucharistiefeier
DESCRIPTION:https://www2.bistum-augsburg.de/gottesdienste/eucharistiefeier_
 id1734491
DTSTART;TZID=Europe/Berlin:20260515T090000
DURATION:PT30M
LOCATION:St. Peter und Paul\, Kirchenweg 5A\, 87730 Zell-Woringen
END:VEVENT
END:VCALENDAR
