BEGIN:VCALENDAR
VERSION:2.0
PRODID:-//Sabre//Sabre VObject 4.5.8//EN
CALSCALE:GREGORIAN
BEGIN:VEVENT
UID:sabre-vobject-ef13167a-a575-4835-91cf-0b4e90e3038f
DTSTAMP:20260424T225134Z
SUMMARY:Gedenkgottesdienst f.d. Verstorbenen d. Pfarreiengemeinschaft im Ja
 hr 2025\, anschl. gemütliches Beisammensein  im Pfarrheim
DESCRIPTION:https://www2.bistum-augsburg.de/gottesdienste/gedenkgottesdiens
 t-f-d-verstorbenen-d-pfarreiengemeinschaft-im-jahr-2025-anschl-gemuetliche
 s-beisammensein-im-pfarrheim_id1734504
DTSTART;TZID=Europe/Berlin:20260510T150000
DURATION:PT30M
LOCATION:Mariä Himmelfahrt
END:VEVENT
END:VCALENDAR
