BEGIN:VCALENDAR
VERSION:2.0
PRODID:-//Sabre//Sabre VObject 4.5.8//EN
CALSCALE:GREGORIAN
BEGIN:VEVENT
UID:sabre-vobject-91222c86-b33d-4471-a138-46b7eb8f7fec
DTSTAMP:20260425T161812Z
SUMMARY:Gottesdienst
DESCRIPTION:https://www2.bistum-augsburg.de/gottesdienste/gottesdienst_id17
 34509
DTSTART;TZID=Europe/Berlin:20260509T153000
DURATION:PT30M
LOCATION:Mariä Himmelfahrt
END:VEVENT
END:VCALENDAR
