BEGIN:VCALENDAR
VERSION:2.0
PRODID:-//Sabre//Sabre VObject 4.5.8//EN
CALSCALE:GREGORIAN
BEGIN:VEVENT
UID:sabre-vobject-82916e29-7b37-4375-a024-6530b07bc312
DTSTAMP:20260425T035108Z
SUMMARY:Maiandacht gestaltet vom Frauenbund\, musik. Umrahmung Chor Laudamu
 s
DESCRIPTION:https://www2.bistum-augsburg.de/gottesdienste/maiandacht-gestal
 tet-vom-frauenbund-musik-umrahmung-chor-laudamus_id1734533
DTSTART;TZID=Europe/Berlin:20260507T190000
DURATION:PT30M
LOCATION:St. Martin
END:VEVENT
END:VCALENDAR
