BEGIN:VCALENDAR
VERSION:2.0
PRODID:-//Sabre//Sabre VObject 4.5.8//EN
CALSCALE:GREGORIAN
BEGIN:VEVENT
UID:sabre-vobject-be442d96-fba1-4173-ace9-3ced0462dd86
DTSTAMP:20260425T040534Z
SUMMARY:Bittgang zum Kreuz d. Fam. Jung anschl. Bittmesse
DESCRIPTION:https://www2.bistum-augsburg.de/gottesdienste/bittgang-zum-kreu
 z-d-fam-jung-anschl-bittmesse_id1734543
DTSTART;TZID=Europe/Berlin:20260512T190000
DURATION:PT30M
LOCATION:St. Nikolaus
END:VEVENT
END:VCALENDAR
