BEGIN:VCALENDAR
VERSION:2.0
PRODID:-//Sabre//Sabre VObject 4.5.8//EN
CALSCALE:GREGORIAN
BEGIN:VEVENT
UID:sabre-vobject-a44ad63a-f1bc-488f-bd20-125908b70dcd
DTSTAMP:20260424T131018Z
SUMMARY:Pilgermesse in den Anliegen der Pilger\;
DESCRIPTION:https://www2.bistum-augsburg.de/gottesdienste/pilgermesse-in-de
 n-anliegen-der-pilger_id1734560
DTSTART;TZID=Europe/Berlin:20260518T101500
DURATION:PT30M
LOCATION:Wallfahrtsdirektion Mariä Schmerzen
END:VEVENT
END:VCALENDAR
