BEGIN:VCALENDAR
VERSION:2.0
PRODID:-//Sabre//Sabre VObject 4.5.8//EN
CALSCALE:GREGORIAN
BEGIN:VEVENT
UID:sabre-vobject-4cb8cbf5-f14b-4c44-a288-67ec4cd9824f
DTSTAMP:20260425T233929Z
SUMMARY:Rosenkranz und Beichtgelegenheit
DESCRIPTION:https://www2.bistum-augsburg.de/gottesdienste/rosenkranz-und-be
 ichtgelegenheit_id1734563
DTSTART;TZID=Europe/Berlin:20260509T160000
DURATION:PT30M
LOCATION:St. Martin
END:VEVENT
END:VCALENDAR
