BEGIN:VCALENDAR
VERSION:2.0
PRODID:-//Sabre//Sabre VObject 4.5.8//EN
CALSCALE:GREGORIAN
BEGIN:VEVENT
UID:sabre-vobject-bf14f924-f280-4800-844f-d1e017c6e943
DTSTAMP:20260424T132301Z
SUMMARY:Hl. Messopfer
DESCRIPTION:https://www2.bistum-augsburg.de/gottesdienste/hl-messopfer_id17
 34569
DTSTART;TZID=Europe/Berlin:20260519T073000
DURATION:PT30M
LOCATION:Wallfahrtsdirektion Mariä Schmerzen
END:VEVENT
END:VCALENDAR
