BEGIN:VCALENDAR
VERSION:2.0
PRODID:-//Sabre//Sabre VObject 4.5.8//EN
CALSCALE:GREGORIAN
BEGIN:VEVENT
UID:sabre-vobject-55e33e9b-86fc-4720-bb18-f21fe7ef103f
DTSTAMP:20260425T223141Z
SUMMARY:Hauskommunion St. Florian
DESCRIPTION:https://www2.bistum-augsburg.de/gottesdienste/hauskommunion-st-
 florian_id1734582
DTSTART;TZID=Europe/Berlin:20260506T160000
DURATION:PT30M
LOCATION:Mariä Himmelfahrt
END:VEVENT
END:VCALENDAR
