BEGIN:VCALENDAR
VERSION:2.0
PRODID:-//Sabre//Sabre VObject 4.5.8//EN
CALSCALE:GREGORIAN
BEGIN:VEVENT
UID:sabre-vobject-b84b5768-2c45-4c40-8e28-cd4292699fff
DTSTAMP:20260425T134922Z
SUMMARY:Messfeier
DESCRIPTION:https://www2.bistum-augsburg.de/gottesdienste/messfeier_id17345
 84
DTSTART;TZID=Europe/Berlin:20260503T080000
DURATION:PT30M
LOCATION:St. Martin
END:VEVENT
END:VCALENDAR
