BEGIN:VCALENDAR
VERSION:2.0
PRODID:-//Sabre//Sabre VObject 4.5.8//EN
CALSCALE:GREGORIAN
BEGIN:VEVENT
UID:sabre-vobject-e633476e-9beb-4329-bc44-a63885736779
DTSTAMP:20260424T192950Z
SUMMARY:Rosenkranz
DESCRIPTION:https://www2.bistum-augsburg.de/gottesdienste/rosenkranz_id1734
 587
DTSTART;TZID=Europe/Berlin:20260504T183000
DURATION:PT30M
LOCATION:St. Martin
END:VEVENT
END:VCALENDAR
