BEGIN:VCALENDAR
VERSION:2.0
PRODID:-//Sabre//Sabre VObject 4.5.8//EN
CALSCALE:GREGORIAN
BEGIN:VEVENT
UID:sabre-vobject-1e51d265-8d4f-424c-8d12-2c06b9955314
DTSTAMP:20260424T200618Z
SUMMARY:feierliche Maiandacht der Marianischen Kongregationen
DESCRIPTION:https://www2.bistum-augsburg.de/gottesdienste/feierliche-maiand
 acht-der-marianischen-kongregationen_id1734589
DTSTART;TZID=Europe/Berlin:20260517T140000
DURATION:PT30M
LOCATION:Wallfahrtsdirektion Mariä Schmerzen
END:VEVENT
END:VCALENDAR
