BEGIN:VCALENDAR
VERSION:2.0
PRODID:-//Sabre//Sabre VObject 4.5.8//EN
CALSCALE:GREGORIAN
BEGIN:VEVENT
UID:sabre-vobject-9370ae59-694d-4011-8bfe-5ec4d652d017
DTSTAMP:20260424T083828Z
SUMMARY:Maiandacht mit Aussetzung des Allerheiligsten
DESCRIPTION:https://www2.bistum-augsburg.de/gottesdienste/maiandacht-mit-au
 ssetzung-des-allerheiligsten_id1734593
DTSTART;TZID=Europe/Berlin:20260510T190000
DURATION:PT30M
LOCATION:St. Vitus\, Kirchweg 2a\, 86514 Ustersbach Gessertshausen
END:VEVENT
END:VCALENDAR
