BEGIN:VCALENDAR
VERSION:2.0
PRODID:-//Sabre//Sabre VObject 4.5.8//EN
CALSCALE:GREGORIAN
BEGIN:VEVENT
UID:sabre-vobject-cacafd33-7404-4107-a1c9-05f44d2a9dfc
DTSTAMP:20260424T223107Z
SUMMARY:Vorabendmesse
DESCRIPTION:https://www2.bistum-augsburg.de/gottesdienste/vorabendmesse_id1
 734598
DTSTART;TZID=Europe/Berlin:20260425T174500
DURATION:PT30M
LOCATION:Heilig Kreuz\, Hl.-Kreuz-Straße 1\, 86470 Burg
END:VEVENT
END:VCALENDAR
