BEGIN:VCALENDAR
VERSION:2.0
PRODID:-//Sabre//Sabre VObject 4.5.8//EN
CALSCALE:GREGORIAN
BEGIN:VEVENT
UID:sabre-vobject-9b1ac758-23cd-4148-8777-4a877a5c22e3
DTSTAMP:20260424T185505Z
SUMMARY:Hl. Messe in der Leonhardskapelle
DESCRIPTION:https://www2.bistum-augsburg.de/gottesdienste/hl-messe-in-der-l
 eonhardskapelle_id1734603
DTSTART;TZID=Europe/Berlin:20260425T080000
DURATION:PT30M
LOCATION:St. Vitus
END:VEVENT
END:VCALENDAR
