BEGIN:VCALENDAR
VERSION:2.0
PRODID:-//Sabre//Sabre VObject 4.5.8//EN
CALSCALE:GREGORIAN
BEGIN:VEVENT
UID:sabre-vobject-f9ce2467-9714-4374-9299-74b0b80858bd
DTSTAMP:20260425T152930Z
SUMMARY:Rosenkranz für den Frieden in der Welt
DESCRIPTION:https://www2.bistum-augsburg.de/gottesdienste/rosenkranz-fuer-d
 en-frieden-in-der-welt_id1734693
DTSTART;TZID=Europe/Berlin:20260505T181500
DURATION:PT30M
LOCATION:Mariä Himmelfahrt
END:VEVENT
END:VCALENDAR
