BEGIN:VCALENDAR
VERSION:2.0
PRODID:-//Sabre//Sabre VObject 4.5.8//EN
CALSCALE:GREGORIAN
BEGIN:VEVENT
UID:sabre-vobject-7e46ef25-24d1-418c-997b-e788e8d31de0
DTSTAMP:20260426T033819Z
SUMMARY:Hausfrauenmesse
DESCRIPTION:https://www2.bistum-augsburg.de/gottesdienste/hausfrauenmesse_i
 d1734710
DTSTART;TZID=Europe/Berlin:20260506T090000
DURATION:PT30M
LOCATION:St. Michael
END:VEVENT
END:VCALENDAR
