BEGIN:VCALENDAR
VERSION:2.0
PRODID:-//Sabre//Sabre VObject 4.5.8//EN
CALSCALE:GREGORIAN
BEGIN:VEVENT
UID:sabre-vobject-5398b198-5e73-4910-8cdc-436949803b1b
DTSTAMP:20260425T181933Z
SUMMARY:Maiandachtsausflug für die Pfarreiengemeinschaft
DESCRIPTION:https://www2.bistum-augsburg.de/gottesdienste/maiandachtsausflu
 g-fuer-die-pfarreiengemeinschaft_id1734731
DTSTART;TZID=Europe/Berlin:20260522T000000
DURATION:PT30M
LOCATION:St. Michael
END:VEVENT
END:VCALENDAR
