BEGIN:VCALENDAR
VERSION:2.0
PRODID:-//Sabre//Sabre VObject 4.5.8//EN
CALSCALE:GREGORIAN
BEGIN:VEVENT
UID:sabre-vobject-1aeb4520-11a5-4f35-8275-92b3a984e22c
DTSTAMP:20260425T184121Z
SUMMARY:Bittgang nach Heimberg um 08.00 Uhr von Reitenbuch und 08.30 Uhr vo
 n Aretsried dort um 09.00 Uhr Heilige Messe (Bei schlechter Witterung find
 et die Heilige Messe um 09.00 Uhr in St. Pankrati
DESCRIPTION:https://www2.bistum-augsburg.de/gottesdienste/bittgang-nach-hei
 mberg-um-08-00-uhr-von-reitenbuch-und-08-30-uhr-von-aretsried-dort-um-09-0
 0-uhr-heilige-messe-bei-schlechter-witterung-findet-die-heilige-messe-um-0
 9-00-uhr-in-st-pankrati_id1734746
DTSTART;TZID=Europe/Berlin:20260514T080000
DURATION:PT30M
LOCATION:St. Pankratius
END:VEVENT
END:VCALENDAR
