BEGIN:VCALENDAR
VERSION:2.0
PRODID:-//Sabre//Sabre VObject 4.5.8//EN
CALSCALE:GREGORIAN
BEGIN:VEVENT
UID:sabre-vobject-e5ab09f4-85f6-4823-ad43-99fe7d4b325e
DTSTAMP:20260425T114618Z
SUMMARY:Vorabendmesse (Renovabis Kolekte für Mittel- und Osteuropa)
DESCRIPTION:https://www2.bistum-augsburg.de/gottesdienste/vorabendmesse-ren
 ovabis-kolekte-fuer-mittel-und-osteuropa_id1734750
DTSTART;TZID=Europe/Berlin:20260523T190000
DURATION:PT30M
LOCATION:St. Pankratius
END:VEVENT
END:VCALENDAR
