BEGIN:VCALENDAR
VERSION:2.0
PRODID:-//Sabre//Sabre VObject 4.5.8//EN
CALSCALE:GREGORIAN
BEGIN:VEVENT
UID:sabre-vobject-c375a48a-f4cc-45f8-a2cb-4aca0029da0c
DTSTAMP:20260426T033817Z
SUMMARY:Heilige Messe\; musik. gestaltet von Christina Hohl an der Steirisc
 hen
DESCRIPTION:https://www2.bistum-augsburg.de/gottesdienste/heilige-messe-mus
 ik-gestaltet-von-christina-hohl-an-der-steirischen_id1734768
DTSTART;TZID=Europe/Berlin:20260510T103000
DURATION:PT30M
LOCATION:St. Martin
END:VEVENT
END:VCALENDAR
