BEGIN:VCALENDAR
VERSION:2.0
PRODID:-//Sabre//Sabre VObject 4.5.8//EN
CALSCALE:GREGORIAN
BEGIN:VEVENT
UID:sabre-vobject-cc8dc245-17aa-404a-8394-bb0ef8dfdc9f
DTSTAMP:20260425T105720Z
SUMMARY:Gestaltete Anbetung mit eucharistischem Segen
DESCRIPTION:https://www2.bistum-augsburg.de/gottesdienste/gestaltete-anbetu
 ng-mit-eucharistischem-segen_id1734769
DTSTART;TZID=Europe/Berlin:20260506T180000
DURATION:PT30M
LOCATION:Heilig Geist
END:VEVENT
END:VCALENDAR
