BEGIN:VCALENDAR
VERSION:2.0
PRODID:-//Sabre//Sabre VObject 4.5.8//EN
CALSCALE:GREGORIAN
BEGIN:VEVENT
UID:sabre-vobject-851abc3a-9f35-4e84-9bd2-caa579b78a05
DTSTAMP:20260425T141025Z
SUMMARY:Bittgottesdienst bei Ankiunft der Fischacher Bittgänger
DESCRIPTION:https://www2.bistum-augsburg.de/gottesdienste/bittgottesdienst-
 bei-ankiunft-der-fischacher-bittgaenger_id1734815
DTSTART;TZID=Europe/Berlin:20260511T190000
DURATION:PT30M
LOCATION:St. Jakobus maj.
END:VEVENT
END:VCALENDAR
