BEGIN:VCALENDAR
VERSION:2.0
PRODID:-//Sabre//Sabre VObject 4.5.8//EN
CALSCALE:GREGORIAN
BEGIN:VEVENT
UID:sabre-vobject-eb3267cc-78f4-42b0-97a7-6e97843ea2d6
DTSTAMP:20260425T122713Z
SUMMARY:Heilige Messe (BT)
DESCRIPTION:https://www2.bistum-augsburg.de/gottesdienste/heilige-messe-bt_
 id1734819
DTSTART;TZID=Europe/Berlin:20260429T183000
DURATION:PT30M
LOCATION:St. Martin
END:VEVENT
END:VCALENDAR
