BEGIN:VCALENDAR
VERSION:2.0
PRODID:-//Sabre//Sabre VObject 4.5.8//EN
CALSCALE:GREGORIAN
BEGIN:VEVENT
UID:sabre-vobject-c1a3eca1-6ad9-4aa7-a90b-47f96df7c144
DTSTAMP:20260425T160647Z
SUMMARY:Rosenkranz
DESCRIPTION:https://www2.bistum-augsburg.de/gottesdienste/rosenkranz_id1734
 823
DTSTART;TZID=Europe/Berlin:20260510T184500
DURATION:PT30M
LOCATION:St. Johannes Baptist\, Bgm.-Herz-Platz 9\, 87477 Sulzberg Moosbach
END:VEVENT
END:VCALENDAR
