BEGIN:VCALENDAR
VERSION:2.0
PRODID:-//Sabre//Sabre VObject 4.5.8//EN
CALSCALE:GREGORIAN
BEGIN:VEVENT
UID:sabre-vobject-3526faa9-1338-4766-9660-cf90dc3eaf24
DTSTAMP:20260426T013121Z
SUMMARY:Taufe von Eliah Göppel
DESCRIPTION:https://www2.bistum-augsburg.de/gottesdienste/taufe-von-eliah-g
 oeppel_id1734916
DTSTART;TZID=Europe/Berlin:20260516T140000
DURATION:PT30M
LOCATION:St. Martin\, Pfarrhofplatz 11\, 89312 Günzburg
END:VEVENT
END:VCALENDAR
