BEGIN:VCALENDAR
VERSION:2.0
PRODID:-//Sabre//Sabre VObject 4.5.8//EN
CALSCALE:GREGORIAN
BEGIN:VEVENT
UID:sabre-vobject-f9a07c8d-ecbc-4ca9-abe6-782ed37bff6a
DTSTAMP:20260425T143342Z
SUMMARY:Hl. Messe
DESCRIPTION:https://www2.bistum-augsburg.de/gottesdienste/hl-messe_id173493
 2
DTSTART;TZID=Europe/Berlin:20260510T084500
DURATION:PT30M
LOCATION:St. Ulrich
END:VEVENT
END:VCALENDAR
