BEGIN:VCALENDAR
VERSION:2.0
PRODID:-//Sabre//Sabre VObject 4.5.8//EN
CALSCALE:GREGORIAN
BEGIN:VEVENT
UID:sabre-vobject-2fdd2bc5-3049-4e5d-8db6-9cebab081c1f
DTSTAMP:20260425T234206Z
SUMMARY:"Eine kleine Kirchenmusik"
DESCRIPTION:https://www2.bistum-augsburg.de/gottesdienste/eine-kleine-kirch
 enmusik_id1734939
DTSTART;TZID=Europe/Berlin:20260512T100000
DURATION:PT30M
LOCATION:St. Martin\, Pfarrhofplatz 11\, 89312 Günzburg
END:VEVENT
END:VCALENDAR
